BEGIN:VCALENDAR
VERSION:2.0
PRODID:-//Hotel King Rimini - ECPv6.15.20//NONSGML v1.0//EN
CALSCALE:GREGORIAN
METHOD:PUBLISH
X-ORIGINAL-URL:https://hotelkingrimini.com
X-WR-CALDESC:Eventi per Hotel King Rimini
REFRESH-INTERVAL;VALUE=DURATION:PT1H
X-Robots-Tag:noindex
X-PUBLISHED-TTL:PT1H
BEGIN:VTIMEZONE
TZID:Europe/Rome
BEGIN:DAYLIGHT
TZOFFSETFROM:+0100
TZOFFSETTO:+0200
TZNAME:CEST
DTSTART:20250330T010000
END:DAYLIGHT
BEGIN:STANDARD
TZOFFSETFROM:+0200
TZOFFSETTO:+0100
TZNAME:CET
DTSTART:20251026T010000
END:STANDARD
BEGIN:DAYLIGHT
TZOFFSETFROM:+0100
TZOFFSETTO:+0200
TZNAME:CEST
DTSTART:20260329T010000
END:DAYLIGHT
BEGIN:STANDARD
TZOFFSETFROM:+0200
TZOFFSETTO:+0100
TZNAME:CET
DTSTART:20261025T010000
END:STANDARD
BEGIN:DAYLIGHT
TZOFFSETFROM:+0100
TZOFFSETTO:+0200
TZNAME:CEST
DTSTART:20270328T010000
END:DAYLIGHT
BEGIN:STANDARD
TZOFFSETFROM:+0200
TZOFFSETTO:+0100
TZNAME:CET
DTSTART:20271031T010000
END:STANDARD
BEGIN:DAYLIGHT
TZOFFSETFROM:+0100
TZOFFSETTO:+0200
TZNAME:CEST
DTSTART:20280326T010000
END:DAYLIGHT
BEGIN:STANDARD
TZOFFSETFROM:+0200
TZOFFSETTO:+0100
TZNAME:CET
DTSTART:20281029T010000
END:STANDARD
BEGIN:DAYLIGHT
TZOFFSETFROM:+0100
TZOFFSETTO:+0200
TZNAME:CEST
DTSTART:20290325T010000
END:DAYLIGHT
BEGIN:STANDARD
TZOFFSETFROM:+0200
TZOFFSETTO:+0100
TZNAME:CET
DTSTART:20291028T010000
END:STANDARD
END:VTIMEZONE
BEGIN:VEVENT
DTSTART;TZID=Europe/Rome:20260101T000000
DTEND;TZID=Europe/Rome:20281231T235900
DTSTAMP:20260419T182145
CREATED:20221011T155600Z
LAST-MODIFIED:20260202T110345Z
UID:2083-1767225600-1861919940@hotelkingrimini.com
SUMMARY:OFFERTA SPECIALE PER ALLESTITORI DI FIERE ED EVENTI
DESCRIPTION:Se lavori come allestitore\, montatore o tecnico fieristico e partecipi alle fiere di Rimini\, all’Hotel King trovi la soluzione ideale per riposare al meglio dopo intense giornate di lavoro.\nAbbiamo pensato a un’offerta dedicata a chi opera dietro le quinte degli eventi fieristici\, con tariffe agevolate\, comfort essenziali e massima flessibilità. \nCosa include l’offerta:\n\nPrezzi convenzionati riservati ad allestitori e montatori\nCamere confortevoli e silenziose\, ideali per il riposo\nColazione abbondante per iniziare al meglio la giornata con orari dedicati\nCheck-in flessibile (su richiesta\, in base agli orari di lavoro)\nConnessione Wi-Fi gratuita\nPosizione strategica: per raggiungere comodamente il polo fieristico di Rimini\, il Palacongressi e l’uscita dell’autostrada Rimini Sud\n\nPerché scegliere Hotel King:\n\nAmbiente familiare e accogliente\nStaff disponibile e abituato a ospitare professionisti del settore fieristico\nOttimo rapporto qualità/prezzo anche per soggiorni di più notti\nPossibilità di preventivi personalizzati per gruppi e team di lavoro\n\n📌 L’offerta è valida durante tutte le principali fiere di Rimini\, previa disponibilità. \n👉 Contattaci direttamente per ricevere un preventivo su misura indicando le date della fiera e il numero di persone.
URL:https://hotelkingrimini.com/offerta/offerta-speciale-per-allestitori-di-fiere-ed-eventi-2022/
CATEGORIES:OFFERTE HOTEL FIERA DI RIMINI
ATTACH;FMTTYPE=image/jpeg:https://hotelkingrimini.com/new25/wp-content/uploads/2022/10/offerta-allestitori-fiere-stand.jpg
END:VEVENT
BEGIN:VEVENT
DTSTART;TZID=Europe/Rome:20260421T080000
DTEND;TZID=Europe/Rome:20260423T170000
DTSTAMP:20260419T182145
CREATED:20230310T091814Z
LAST-MODIFIED:20260206T091321Z
UID:2256-1776758400-1776963600@hotelkingrimini.com
SUMMARY:SPECIALE MACFRUT 2026
DESCRIPTION:Torna a grande richiesta MacFrut la kermesse fieristica dedicata  a tutta la filiera ortofrutticola\, per i professionisti del settore. Un appuntamento dal respiro internazionale\, con buyer provenienti da tutti i continenti. \nSe anche tu stai cercando un Hotel dove soggiornare durante il MacFrut 2026\, Hotel King 3 stelle Superior ti propone trattamento di Bed&Breakfast e posti auto a disposizione. Ti aspettiamo a Rimini Marina Centro con camere moderne\, servizi comodi ed eccellente prima colazione per affrontare la giornata con la carica giusta. In posizione privilegiata di fronte al mare\, questo albergo ti accoglierà con la cortesia di sempre e la migliore qualità. \nPossibilità di Camere ORO con Balcone lato Mare \nInclusi nell’offerta anche:\n– Pernottamento in comode camere\, arredate in stile Veneziano\, ben curate e dotate di tutti i plus: TV\, telefono\, cassaforte\, frigobar\, servizi privati con box doccia e phon\n– Eccellente prima colazione\, servita con golosità dolci e salate\, prodotti da forno\, dolci fatti in casa\, specialità biologiche\, frutta\, spremute\, caffetteria\n– Free Wi-Fi su tutta la struttura \nRichiedi tutte le informazioni di cui hai bisogno oppure il tuo preventivo personalizzato
URL:https://hotelkingrimini.com/offerta/macfrut-3-5-maggio-2023/
CATEGORIES:OFFERTE HOTEL FIERA DI RIMINI
ATTACH;FMTTYPE=image/png:https://hotelkingrimini.com/new25/wp-content/uploads/2023/03/Immagini-offerte-sito-1.png
END:VEVENT
BEGIN:VEVENT
DTSTART;TZID=Europe/Rome:20260424T080000
DTEND;TZID=Europe/Rome:20260426T170000
DTSTAMP:20260419T182145
CREATED:20230324T115040Z
LAST-MODIFIED:20260206T093811Z
UID:2306-1777017600-1777222800@hotelkingrimini.com
SUMMARY:SPECIALE 25 APRILE A RIMINI
DESCRIPTION:Il ponte del 25 Aprile è il momento ideale per concedersi una prima vacanza di primavera e scoprire Rimini nella sua veste migliore: giornate più lunghe\, clima mite e una città che si risveglia con eventi\, passeggiate e tanta voglia di stare all’aria aperta. Soggiornando all’Hotel King potrai vivere Rimini in modo rilassato e autentico\, approfittando di una posizione comoda e di servizi pensati per rendere il tuo soggiorno piacevole e senza pensieri. La primavera è il periodo perfetto per passeggiare sul lungomare\, godersi il mare in tranquillità\, fare colazione con calma e respirare l’atmosfera della Riviera prima dell’arrivo dell’alta stagione. Le piste ciclabili e le aree verdi invitano a muoversi all’aria aperta\, mentre il centro storico di Rimini\, con i suoi monumenti romani e rinascimentali\, si presta a essere scoperto con calma tra una visita culturale e una sosta nei locali all’aperto. \nDurante il soggiorno all’Hotel King potrai rilassarti in camere confortevoli e climatizzate e iniziare la giornata con una ricca colazione. La sera potrai approfittare della convenzione con un ristorante partner nelle vicinanze\, per gustare la cucina locale in un’atmosfera informale. A completare l’offerta\, la possibilità di parcheggio o garage su richiesta\, soggetta a disponibilità\, e uno staff sempre disponibile a suggerirti attività\, itinerari ed eventi primaverili. \nIl 25 Aprile a Rimini è l’occasione perfetta per staccare dalla routine e dare il benvenuto alla bella stagione\, tra mare\, cultura e relax. \n📩 Contattaci per un preventivo personalizzatoOfferta valida per il periodo del 25 Aprile\, soggetta a disponibilità. \n  \nSe una pausa relax è quello di cui hai bisogno questa è l’occasione giusta\, prenotala subito!\nRichiedi maggiori informazioni o un preventivo personalizzato ti basta compilare il form:
URL:https://hotelkingrimini.com/offerta/ponte-del-25-aprile-a-rimini/
CATEGORIES:OFFERTE VACANZE
ATTACH;FMTTYPE=image/jpeg:https://hotelkingrimini.com/new25/wp-content/uploads/2023/03/photo3jpg.jpg
END:VEVENT
END:VCALENDAR