BEGIN:VCALENDAR
VERSION:2.0
PRODID:-//Hotel King Rimini - ECPv6.15.20//NONSGML v1.0//EN
CALSCALE:GREGORIAN
METHOD:PUBLISH
X-WR-CALNAME:Hotel King Rimini
X-ORIGINAL-URL:https://hotelkingrimini.com
X-WR-CALDESC:Eventi per Hotel King Rimini
REFRESH-INTERVAL;VALUE=DURATION:PT1H
X-Robots-Tag:noindex
X-PUBLISHED-TTL:PT1H
BEGIN:VTIMEZONE
TZID:Europe/Rome
BEGIN:DAYLIGHT
TZOFFSETFROM:+0100
TZOFFSETTO:+0200
TZNAME:CEST
DTSTART:20250330T010000
END:DAYLIGHT
BEGIN:STANDARD
TZOFFSETFROM:+0200
TZOFFSETTO:+0100
TZNAME:CET
DTSTART:20251026T010000
END:STANDARD
BEGIN:DAYLIGHT
TZOFFSETFROM:+0100
TZOFFSETTO:+0200
TZNAME:CEST
DTSTART:20260329T010000
END:DAYLIGHT
BEGIN:STANDARD
TZOFFSETFROM:+0200
TZOFFSETTO:+0100
TZNAME:CET
DTSTART:20261025T010000
END:STANDARD
BEGIN:DAYLIGHT
TZOFFSETFROM:+0100
TZOFFSETTO:+0200
TZNAME:CEST
DTSTART:20270328T010000
END:DAYLIGHT
BEGIN:STANDARD
TZOFFSETFROM:+0200
TZOFFSETTO:+0100
TZNAME:CET
DTSTART:20271031T010000
END:STANDARD
END:VTIMEZONE
BEGIN:VEVENT
DTSTART;TZID=Europe/Rome:20260619T080000
DTEND;TZID=Europe/Rome:20260621T170000
DTSTAMP:20260420T021113
CREATED:20260206T100409Z
LAST-MODIFIED:20260206T100409Z
UID:265143-1781856000-1782061200@hotelkingrimini.com
SUMMARY:NOTTE ROSA 2026
DESCRIPTION:La Notte Rosa\, l’evento più atteso dell’estate sulla Riviera Romagnola\, trasforma Rimini e tutta la costa in un’esplosione di luci\, colori\, musica e spettacoli. È la serata in cui la città si veste di rosa e accoglie turisti e visitatori in un’atmosfera unica\, tra concerti\, dj set\, fuochi d’artificio e animazione lungo il mare. Soggiornando all’Hotel King\, potrai vivere questa magica notte senza preoccupazioni con comodità e relax. \nL’offerta Notte Rosa include: \n\n🛏️ Camere confortevoli e climatizzate\, perfette per riposare dopo la notte di festa\n☕ Ricca colazione per iniziare la giornata con energia\n🥗 Possibilità di brunch in hotel per chi vuole un pranzo veloce e comodo\n🍽️ Convenzione con ristorante partner nelle vicinanze per cene senza pensieri\n🏖️ Convenzione con la spiaggia per rilassarti al sole il giorno dopo la serata\n🚗 Parcheggio/garage su richiesta\, soggetto a disponibilità\n🌊 Posizione strategica vicino al mare e al cuore degli eventi della Notte Rosa\n😊 Staff disponibile per consigliarti i migliori punti panoramici e itinerari della città\n\nLa Notte Rosa è l’occasione perfetta per combinare festa\, mare e relax\, vivendo Rimini in tutta la sua energia e bellezza. \n📩 Richiedi ora il tuo preventivo personalizzatoOfferta valida per il periodo della Notte Rosa 2026\, soggetta a disponibilità.
URL:https://hotelkingrimini.com/offerta/notte-rosa-2026/
CATEGORIES:OFFERTE VACANZE
ATTACH;FMTTYPE=image/png:https://hotelkingrimini.com/new25/wp-content/uploads/2026/02/Immagini-offerte-sito-4.png
END:VEVENT
BEGIN:VEVENT
DTSTART;TZID=Europe/Rome:20260716T080000
DTEND;TZID=Europe/Rome:20260719T170000
DTSTAMP:20260420T021113
CREATED:20230531T165906Z
LAST-MODIFIED:20260206T084914Z
UID:2448-1784188800-1784480400@hotelkingrimini.com
SUMMARY:Rimini Comix 2026
DESCRIPTION:In occasione del RiminiComix 2026\, uno degli eventi estivi più amati dedicati al mondo del fumetto\, del cosplay e dell’intrattenimento\, l’Hotel King è la scelta ideale per chi desidera vivere Rimini in modo pratico e rilassato. Durante le giornate del RiminiComix\, che si svolgerà come di consueto al Parco Federico Fellini dal 16 al 19 luglio 2026\, potrai dedicarti completamente all’evento\, sapendo di avere un punto di riferimento comodo dove rientrare. Le camere dell’hotel sono confortevoli e climatizzate\, pensate per offrirti il giusto riposo dopo una giornata intensa tra stand\, spettacoli e concerti. Ogni mattina ti aspetta una ricca colazione\, perfetta per iniziare la giornata con la giusta energia. \nPer chi preferisce ottimizzare i tempi\, è disponibile anche la possibilità di brunch in hotel a pranzo\, ideale prima di tornare agli eventi o di concedersi qualche ora di relax. La sera\, invece\, potrai approfittare della convenzione con un ristorante partner nelle vicinanze\, per gustare piatti della tradizione locale in totale comodità. \nL’Hotel King offre inoltre la possibilità di parcheggio su richiesta\, soggetta a disponibilità\, e una posizione strategica che consente di muoversi facilmente tra il mare\, il lungomare e le principali aree della manifestazione. Il tutto accompagnato da un’atmosfera accogliente e da uno staff sempre disponibile a darti supporto e consigli durante il soggiorno. \nScegliere l’Hotel King durante il RiminiComix significa vivere l’evento con più libertà e meno pensieri\, concentrandoti solo sul divertimento. \nContattaci per un preventivo personalizzato\n*Offerta valida per il periodo del RiminiComix 2026\, soggetta a disponibilità.
URL:https://hotelkingrimini.com/offerta/rimini-comix-2023/
CATEGORIES:OFFERTE VACANZE
ATTACH;FMTTYPE=image/png:https://hotelkingrimini.com/new25/wp-content/uploads/2023/05/Immagini-offerte-sito.png
END:VEVENT
BEGIN:VEVENT
DTSTART;TZID=Europe/Rome:20260808T080000
DTEND;TZID=Europe/Rome:20260816T170000
DTSTAMP:20260420T021113
CREATED:20230720T153605Z
LAST-MODIFIED:20260206T083922Z
UID:2591-1786176000-1786899600@hotelkingrimini.com
SUMMARY:Ferragosto 2026 a Rimini
DESCRIPTION:Agosto è il mese delle ferie e del relax! E quale posto migliore per trascorrere queste giornate indimenticabili se non all’Hotel King di Rimini? Ti invitiamo a vivere un’esperienza unica nella splendida Riviera Romagnola\, dove il divertimento e il relax si fondono per rendere le tue vacanze indimenticabili. \nDurante il mese di agosto\, l’Hotel King ti offre un’opportunità da non perdere: approfitta della nostra imperdibile offerta per trascorrere giornate di puro divertimento e relax al mare! Goditi il caldo sole sulla spiaggia dorata di Rimini\, immergendoti nelle acque dell’Adriatico e lasciandoti coccolare dalla brezza marina. Per coloro che invece desiderano un po’ di tranquillità lontano dalla folla\, l’entroterra romagnolo offre paesaggi incantevoli e borghi pittoreschi da scoprire. Un’escursione nelle verdi colline o una visita a uno dei caratteristici paesini della zona vi regalerà momenti di pura serenità. \nInoltre\, il periodo di Ferragosto è particolarmente ricco di eventi e feste. Rimini si anima con spettacoli\, concerti\, sagre e fuochi d’artificio\, creando un’atmosfera magica e coinvolgente. Potrai partecipare alle tradizionali celebrazioni o goderti una passeggiata romantica lungo il lungomare illuminato dalle luci notturne. \nL’offerta Ferragosto include: \n\n🛏️ Soggiorno in camere confortevoli e climatizzate\n☕ Ricca colazione servita ogni mattina per iniziare al meglio la giornata\n🥗 Possibilità di brunch in hotel a pranzo\, ideale per chi rientra dal mare e desidera un pasto leggero e comodo\n🍽️ Convenzione con ristorante partner nelle vicinanze\, per gustare piatti della tradizione locale a condizioni agevolate\n🚗 Possibilità di parcheggio su richiesta\, soggetto a disponibilità\n🌊 Vicinanza alla spiaggia e ai principali servizi della zona\n😊 Accoglienza familiare e disponibilità dello staff\, sempre pronto a consigliarti il meglio di Rimini\n📍 Posizione comoda per raggiungere il centro città\, il lungomare e le principali attrazioni estive\n\n  \nFerragosto a Rimini significa divertimento\, relax e momenti da condividere: fuochi d’artificio\, musica\, locali\, mercatini serali e tanto mare. Soggiornando all’Hotel King potrai vivere tutto questo con la tranquillità di una struttura attenta alle esigenze dei propri ospiti. \n📩 Richiedi ora un preventivo personalizzatoL’offerta è valida per il periodo di Ferragosto 2026\, soggetta a disponibilità e personalizzabile in base alle tue esigenze. \n 
URL:https://hotelkingrimini.com/offerta/offerta-mese-di-agosto-a-rimini/
CATEGORIES:OFFERTE VACANZE
ATTACH;FMTTYPE=image/jpeg:https://hotelkingrimini.com/new25/wp-content/uploads/2023/07/aogsot.jpg
END:VEVENT
END:VCALENDAR