BEGIN:VCALENDAR
VERSION:2.0
PRODID:-//Hotel King Rimini - ECPv6.15.20//NONSGML v1.0//EN
CALSCALE:GREGORIAN
METHOD:PUBLISH
X-WR-CALNAME:Hotel King Rimini
X-ORIGINAL-URL:https://hotelkingrimini.com
X-WR-CALDESC:Eventi per Hotel King Rimini
REFRESH-INTERVAL;VALUE=DURATION:PT1H
X-Robots-Tag:noindex
X-PUBLISHED-TTL:PT1H
BEGIN:VTIMEZONE
TZID:Europe/Rome
BEGIN:DAYLIGHT
TZOFFSETFROM:+0100
TZOFFSETTO:+0200
TZNAME:CEST
DTSTART:20210328T010000
END:DAYLIGHT
BEGIN:STANDARD
TZOFFSETFROM:+0200
TZOFFSETTO:+0100
TZNAME:CET
DTSTART:20211031T010000
END:STANDARD
BEGIN:DAYLIGHT
TZOFFSETFROM:+0100
TZOFFSETTO:+0200
TZNAME:CEST
DTSTART:20220327T010000
END:DAYLIGHT
BEGIN:STANDARD
TZOFFSETFROM:+0200
TZOFFSETTO:+0100
TZNAME:CET
DTSTART:20221030T010000
END:STANDARD
BEGIN:DAYLIGHT
TZOFFSETFROM:+0100
TZOFFSETTO:+0200
TZNAME:CEST
DTSTART:20230326T010000
END:DAYLIGHT
BEGIN:STANDARD
TZOFFSETFROM:+0200
TZOFFSETTO:+0100
TZNAME:CET
DTSTART:20231029T010000
END:STANDARD
END:VTIMEZONE
BEGIN:VEVENT
DTSTART;VALUE=DATE:20221025
DTEND;VALUE=DATE:20221031
DTSTAMP:20260420T170244
CREATED:20221011T153353Z
LAST-MODIFIED:20221011T153353Z
UID:2080-1666656000-1667174399@hotelkingrimini.com
SUMMARY:SPECIALE OFFERTA CONGRESSO SID 26 - 29 OTTOBRE 2022
DESCRIPTION:Il Congresso Nazionale della Società Italiana di Diabetologia è arrivato alla edizione n. 29 e per l’occasione torna a Rimini. \nPrenota il tuo soggiorno e approfitta della speciale promozione pensata da Hotel King\, 3 stelle superior a Marina Centro\, poco distante dal Palacongressi e per questo comodo per chi cerca una sistemazione nei giorni di incontri. Per te pernottamento\, prima colazione e un mondo di servizi che renderanno il tuo soggiorno tranquillo e rilassante. \nSPECIALE CONGRESSO SID\n(offerta valida dal 26 al 29 Ottobre 2022)\n \nFORMULA BED&BREAKFAST \nCAMERA DOPPIA uso singola € 49\,00 a notte\nCAMERA DOPPIA/MATRIMONIALE € 29\,00 a persona a notte  \nInclusi nell’offerta: \n 	– Camera in stile veneziano\, climatizzatore\, TV\, telefono\, frigobar (consumazioni escluse)\, cassaforte\, servizi privati con box doccia e phon\n 	– Ricca prima colazione con tante specialità dolci e salate\, torte fatte in casa dal nostro chef\, yogurt\, frutta fresca\, affettati\, formaggi\, succhi di frutta\, caffetteria\n 	– Free Wi-Fi su tutta la struttura \nAffrettati e richiedi il tuo preventivo personalizzato:
URL:https://hotelkingrimini.com/offerta/speciale-offerta-congresso-sid-26-29-ottobre-2022/
CATEGORIES:OFFERTE HOTEL FIERA DI RIMINI
ATTACH;FMTTYPE=image/jpeg:https://hotelkingrimini.com/new25/wp-content/uploads/2022/10/congresso-sid-rimini-hotel-3-stelle.jpg
END:VEVENT
BEGIN:VEVENT
DTSTART;VALUE=DATE:20221006
DTEND;VALUE=DATE:20221008
DTSTAMP:20260420T170244
CREATED:20221003T204106Z
LAST-MODIFIED:20221003T204106Z
UID:1982-1665014400-1665187199@hotelkingrimini.com
SUMMARY:OFFERTA SPECIALE "PRENOTA PRIMA" 2023
DESCRIPTION:Rimangono pochi giorni per usufruire del nostro BONUS PRENOTA PRIMA 2023!\nRichiedi ora un preventivo e blocca le date: Non pagherai nessuna caparra fino a 15 giorni prima dell’arrivo! \nL’Hotel King di Rimini\, confortevole 3 stelle S. situato a pochi metri dal mare nel cuore di Marina Centro\, ti offre un motivo in più per organizzare le tue prossime vacanze in famiglia sulla Riviera Romagnola\, grazie al BONUS PRENOTA PRIMA che ti fa risparmiare fino al 10% sul totale della tua vacanza. \nPREZZI A PARTIRE DA 54 EURO PER PERSONA IN MEZZA PENSIONE CON SPIAGGIA INCLUSA \nLe nostre Camere Argento arredate in elegante stile veneziano sono dotate di climatizzatore\, TV\, telefono diretto\, frigobar\, cassaforte elettronica\, servizi privati con box doccia e phon.\nLa Camera Oro include anche il balcone lato mare\, la TV 32’ Lcd. \nBambini gratis fino a 6 anni fino al 16/6 e dal 25/8! \nIn tutti gli altri periodi Gratis fino a 3 anni e riduzione 50% da 4 a 15 anni in camera con due adulti.\nSpeciale Bimbi: per i nostri piccoli ospiti metteremo a disposizione Seggioloni\, Passeggini\, Culle\, Vaschette per il Bagnetto e Scalda Biberon\nNon perdetevi la divertentissima animazione in spiaggia! \nGli animali sono ammessi (con un piccolo supplemento)\, anche in spiaggia con una zona dedicata a loro. \nArrivate in Macchina? Garage coperto e assicurato a soli 100 metri dall’hotel ad Euro 20\,00 al giorno (fino ad esaurimento posti).\nOpzione parcheggio scoperto a pagamento a 1\,5 km dall’hotel\, NON prenotabile con la struttura. \nL’Hotel offre rete Wi-Fi su tutta la struttura e Noleggio di Biciclette! \nSpeciale 14 paghi 13: prenota 14 notti e ne paghi 13! Settimana di Ferragosto esclusa (8/08 – 23/08) e non cumulabile con bimbi gratis. \nNo caparra o pagamento anticipato\, CANCELLAZIONE GRATUITA fino a 15 giorni prima dell’arrivo: Non si richiede caparra o pagamento anticipato in fase di prenotazione\, ma l’hotel si riserva di chiedere un versamento 15 giorni prima dell’arrivo. Fino alla data di richiesta del versamento il cliente ha facoltà di cancellazione gratuita. E’ richiesto il saldo del soggiorno al momento del check-in. \n*offerte valide per soggiorni di minimo 7 notti \nIn più tutti i servizi di qualità dell’Hotel King di Rimini a completa disposizione per le perfette vacanze in famiglia sulla Riviera Adriatica. \nCompila il form per ricevere maggiori informazioni oppure un preventivo gratuito:
URL:https://hotelkingrimini.com/offerta/offerta-speciale-prenota-prima-2023/
CATEGORIES:OFFERTE VACANZE
ATTACH;FMTTYPE=image/jpeg:https://hotelkingrimini.com/new25/wp-content/uploads/2022/10/Prenota-prima-2023-Rimini-Offerta-Vacanze.jpg
END:VEVENT
BEGIN:VEVENT
DTSTART;VALUE=DATE:20220114
DTEND;VALUE=DATE:20220119
DTSTAMP:20260420T170244
CREATED:20221125T155803Z
LAST-MODIFIED:20221125T155803Z
UID:2187-1642118400-1642550399@hotelkingrimini.com
SUMMARY:SPECIALE ESAME AVVOCATO RIMINI 2023
DESCRIPTION:Il Ministero della Giustizia ha dato l’annuncio: è stato ufficialmente firmato il bando con il quale viene dato avvio alla sessione dell’esame di Stato per l’abilitazione alla professione di avvocato.\nLe prove d’esame inizieranno a partire dal 16 gennaio 2023.\nAll’Hotel King tre stelle superior situato a Marina Centro abbiamo pensato ad un’offerta speciale in pernottamento e prima colazione riservata a tutti coloro che dovranno sostenere l’esame. \nSPECIALE ESAME AVVOCATO RIMINI 2023\n(valida dal 16 gennaio 2023) \nFORMULA BED&BREAKFAST \nCAMERA DOPPIA a partire da € 34\,00 a persona\nCAMERA DOPPIA USO SINGOLA a partire da € 55\,00 a persona \nPossibilità di Camere ORO con Balcone lato Mare \nInclusi nell’offerta:\n– Pernottamento in comode camere\, arredate in stile Veneziano\n– Ottima prima colazione con tante specialità dolci e salate\, torte fatte in casa da dal nostro chef\, yogurt\, frutta fresca\, affettati\, formaggi\, succhi di frutta\, caffetteria.\n– Wi-Fi free \nRichiedi tutte le informazioni di cui hai bisogno oppure il tuo preventivo personalizzato:
URL:https://hotelkingrimini.com/offerta/speciale-esame-avvocato-rimini-2023/
ATTACH;FMTTYPE=image/jpeg:https://hotelkingrimini.com/new25/wp-content/uploads/2022/11/esame-avvocato-gennaio-rimini-2023.jpg
END:VEVENT
END:VCALENDAR