BEGIN:VCALENDAR
VERSION:2.0
PRODID:-//Hotel King Rimini - ECPv6.15.20//NONSGML v1.0//EN
CALSCALE:GREGORIAN
METHOD:PUBLISH
X-WR-CALNAME:Hotel King Rimini
X-ORIGINAL-URL:https://hotelkingrimini.com
X-WR-CALDESC:Eventi per Hotel King Rimini
REFRESH-INTERVAL;VALUE=DURATION:PT1H
X-Robots-Tag:noindex
X-PUBLISHED-TTL:PT1H
BEGIN:VTIMEZONE
TZID:Europe/Rome
BEGIN:DAYLIGHT
TZOFFSETFROM:+0100
TZOFFSETTO:+0200
TZNAME:CEST
DTSTART:20230326T010000
END:DAYLIGHT
BEGIN:STANDARD
TZOFFSETFROM:+0200
TZOFFSETTO:+0100
TZNAME:CET
DTSTART:20231029T010000
END:STANDARD
BEGIN:DAYLIGHT
TZOFFSETFROM:+0100
TZOFFSETTO:+0200
TZNAME:CEST
DTSTART:20240331T010000
END:DAYLIGHT
BEGIN:STANDARD
TZOFFSETFROM:+0200
TZOFFSETTO:+0100
TZNAME:CET
DTSTART:20241027T010000
END:STANDARD
BEGIN:DAYLIGHT
TZOFFSETFROM:+0100
TZOFFSETTO:+0200
TZNAME:CEST
DTSTART:20250330T010000
END:DAYLIGHT
BEGIN:STANDARD
TZOFFSETFROM:+0200
TZOFFSETTO:+0100
TZNAME:CET
DTSTART:20251026T010000
END:STANDARD
END:VTIMEZONE
BEGIN:VEVENT
DTSTART;TZID=Europe/Rome:20240329T080000
DTEND;TZID=Europe/Rome:20240401T170000
DTSTAMP:20260419T153259
CREATED:20240125T090732Z
LAST-MODIFIED:20240125T090732Z
UID:2834-1711699200-1711990800@hotelkingrimini.com
SUMMARY:Torneo RIMINI CUP Pasqua 2024
DESCRIPTION:Italia Tornei ed Europa Tornei organizzano la seconda edizione  del torneo di calcio giovanile RIMINI CUP\, che si svolgerà nel week and di Pasqua 2024 nello splendido scenario della città di RIMINI. Potranno partecipare società sportive provenienti da tutta Italia che passeranno insieme 3 giorni tra partite di calcio  e divertimento. \nFormula Camera e colazione a partire da da 39\,00€ al giorno per persona\nFormula Mezza Pensione a partire da da 69\,00€ al giorno per persona \nSCONTI SPECIALI PER BAMBINI E RAGAZZI! \nL’offerta in mezza pensione comprende:\n– Pernottamento in eleganti camere in stile con TV\, telefono\, cassaforte\, frigobar\, servizi privati con box doccia e phon\n– Ricca colazione servita con golosità dolci e salate\, prodotti da forno\, dolci fatti in casa\, specialità biologiche\, caffetteria\, centrifughe vegane e tanto altro\n– Cena servita con tre primi e tre secondi a scelta e bevande della casa incluse\n– Internet Wi-Fi \nCosa aspetti? Contattaci per un preventivo gratuito! Ti aspettiamo a Pasqua!
URL:https://hotelkingrimini.com/offerta/torneo-rimini-cup-pasqua-2024/
CATEGORIES:OFFERE HOTEL EVENTI SPORTIVI A RIMINI
ATTACH;FMTTYPE=image/png:https://hotelkingrimini.com/new25/wp-content/uploads/2024/01/calcio.png
END:VEVENT
END:VCALENDAR