BEGIN:VCALENDAR
VERSION:2.0
PRODID:-//Hotel King Rimini - ECPv6.15.20//NONSGML v1.0//EN
CALSCALE:GREGORIAN
METHOD:PUBLISH
X-ORIGINAL-URL:https://hotelkingrimini.com
X-WR-CALDESC:Eventi per Hotel King Rimini
REFRESH-INTERVAL;VALUE=DURATION:PT1H
X-Robots-Tag:noindex
X-PUBLISHED-TTL:PT1H
BEGIN:VTIMEZONE
TZID:Europe/Rome
BEGIN:DAYLIGHT
TZOFFSETFROM:+0100
TZOFFSETTO:+0200
TZNAME:CEST
DTSTART:20220327T010000
END:DAYLIGHT
BEGIN:STANDARD
TZOFFSETFROM:+0200
TZOFFSETTO:+0100
TZNAME:CET
DTSTART:20221030T010000
END:STANDARD
BEGIN:DAYLIGHT
TZOFFSETFROM:+0100
TZOFFSETTO:+0200
TZNAME:CEST
DTSTART:20230326T010000
END:DAYLIGHT
BEGIN:STANDARD
TZOFFSETFROM:+0200
TZOFFSETTO:+0100
TZNAME:CET
DTSTART:20231029T010000
END:STANDARD
BEGIN:DAYLIGHT
TZOFFSETFROM:+0100
TZOFFSETTO:+0200
TZNAME:CEST
DTSTART:20240331T010000
END:DAYLIGHT
BEGIN:STANDARD
TZOFFSETFROM:+0200
TZOFFSETTO:+0100
TZNAME:CET
DTSTART:20241027T010000
END:STANDARD
END:VTIMEZONE
BEGIN:VEVENT
DTSTART;TZID=Europe/Rome:20230513T080000
DTEND;TZID=Europe/Rome:20230513T170000
DTSTAMP:20260422T162905
CREATED:20230314T202208Z
LAST-MODIFIED:20230314T202208Z
UID:2277-1683964800-1683997200@hotelkingrimini.com
SUMMARY:BIAGIO ANTONACCI - 13 MAGGIO 2023
DESCRIPTION:Nuove date per il tour di Biagio Antonacci che da inizio novembre 2022 sta portando in giro per l’Italia il suo Palco Centrale Tour. Il 13 Maggio 2023 non perderti la data al RDS Stadium di Rimini! \nL’Hotel King a pochi minuti dallo Stadio Romeo Neri sarà il tuo soggiorno sul mare perfetto per prendere parte a questo evento; comode camere accoglienti\, servizio impeccabile e professionale ti accompagneranno per tutta la permanenza. \nScopri i vantaggiosi prezzi e prenota subito! \nSPECIALE CONCERTO VASCO ROSSI 2 GIUGNO 2023 (offerta valida il 2 giugno 2023) \nFORMULA BED&BREAKFAST\nCAMERA DOPPIA USO SINGOLA a partire € 49 a persona a notte\nCAMERA DOPPIA/MATRIMONIALE a partire € 29 a persona a notte \nEcco alcuni dei tanti servizi:\n– Pernottamento in confortevoli camere in stile veneziano dotate di tutti i comfort\n– Ricca prima colazione con tante specialità dolci e salate\, torte fatte in casa dal nostro chef\, yogurt\, frutta fresca\, affettati\, formaggi\, succhi di frutta\, caffetteria.\n– Connessione Internet Wi-Fi \nCosa aspetti? Chiedi subito un preventivo:
URL:https://hotelkingrimini.com/offerta/biagio-antonacci-13-maggio-2023/
CATEGORIES:OFFERE HOTEL EVENTI SPORTIVI A RIMINI
ATTACH;FMTTYPE=image/jpeg:https://hotelkingrimini.com/new25/wp-content/uploads/2023/03/Biagio-Antonacci-tour-2023.jpg
END:VEVENT
END:VCALENDAR