BEGIN:VCALENDAR
VERSION:2.0
PRODID:-//Hotel King Rimini - ECPv6.15.20//NONSGML v1.0//EN
CALSCALE:GREGORIAN
METHOD:PUBLISH
X-ORIGINAL-URL:https://hotelkingrimini.com
X-WR-CALDESC:Eventi per Hotel King Rimini
REFRESH-INTERVAL;VALUE=DURATION:PT1H
X-Robots-Tag:noindex
X-PUBLISHED-TTL:PT1H
BEGIN:VTIMEZONE
TZID:Europe/Rome
BEGIN:DAYLIGHT
TZOFFSETFROM:+0100
TZOFFSETTO:+0200
TZNAME:CEST
DTSTART:20220327T010000
END:DAYLIGHT
BEGIN:STANDARD
TZOFFSETFROM:+0200
TZOFFSETTO:+0100
TZNAME:CET
DTSTART:20221030T010000
END:STANDARD
BEGIN:DAYLIGHT
TZOFFSETFROM:+0100
TZOFFSETTO:+0200
TZNAME:CEST
DTSTART:20230326T010000
END:DAYLIGHT
BEGIN:STANDARD
TZOFFSETFROM:+0200
TZOFFSETTO:+0100
TZNAME:CET
DTSTART:20231029T010000
END:STANDARD
BEGIN:DAYLIGHT
TZOFFSETFROM:+0100
TZOFFSETTO:+0200
TZNAME:CEST
DTSTART:20240331T010000
END:DAYLIGHT
BEGIN:STANDARD
TZOFFSETFROM:+0200
TZOFFSETTO:+0100
TZNAME:CET
DTSTART:20241027T010000
END:STANDARD
END:VTIMEZONE
BEGIN:VEVENT
DTSTART;TZID=Europe/Rome:20230602T000000
DTEND;TZID=Europe/Rome:20230602T233000
DTSTAMP:20260422T133121
CREATED:20230314T201045Z
LAST-MODIFIED:20230314T201045Z
UID:2273-1685664000-1685748600@hotelkingrimini.com
SUMMARY:VASCO A RIMINI - 02 GIUGNO 2023
DESCRIPTION:Dopo il sold out del tour 2023 di Vasco Rossi\, Live Nation annuncia che la data “zero” è fissata il 2 giugno a Rimini\, allo Stadio Romeo Neri\, non perdertelo! \nL’Hotel King a pochi minuti dallo Stadio Romeo Neri sarà il tuo soggiorno sul mare perfetto per prendere parte a questo evento; comode camere accoglienti\, servizio impeccabile e professionale ti accompagneranno per tutta la permanenza. \nScopri i vantaggiosi prezzi e prenota subito! \nSPECIALE CONCERTO VASCO ROSSI 2 GIUGNO 2023 (offerta valida il 2 giugno 2023) \nFORMULA BED&BREAKFAST\nCAMERA DOPPIA USO SINGOLA a partire € 79 a persona a notte\nCAMERA DOPPIA/MATRIMONIALE a partire € 59 a persona a notte \nEcco alcuni dei tanti servizi:\n– Pernottamento in confortevoli camere in stile veneziano dotate di tutti i comfort\n– Ricca prima colazione con tante specialità dolci e salate\, torte fatte in casa dal nostro chef\, yogurt\, frutta fresca\, affettati\, formaggi\, succhi di frutta\, caffetteria.\n– Connessione Internet Wi-Fi \nCosa aspetti? Chiedi subito un preventivo:
URL:https://hotelkingrimini.com/offerta/vasco-a-rimini-02-giugno-2023/
CATEGORIES:OFFERE HOTEL EVENTI SPORTIVI A RIMINI
ATTACH;FMTTYPE=image/jpeg:https://hotelkingrimini.com/new25/wp-content/uploads/2023/03/vaco-rossi-rimini-2023.jpg
END:VEVENT
BEGIN:VEVENT
DTSTART;TZID=Europe/Rome:20230615T080000
DTEND;TZID=Europe/Rome:20230625T170000
DTSTAMP:20260422T133121
CREATED:20230513T171559Z
LAST-MODIFIED:20230513T171559Z
UID:2405-1686816000-1687712400@hotelkingrimini.com
SUMMARY:Il Festival Italiano della Danza Sportiva - Si BALLA!
DESCRIPTION:Vieni a far parte della grande festa della danza sportiva al Si BALLA! Festival Italiano della Danza Sportiva\, presentato da CIDS. Il campionato nazionale della promozione della Danza Sportiva aperto a tutti gli EPS convenzionati FIDS si svolgerà presso Rimini Fiera nei giorni 15\, 16\, 17\, 18 e 24\, 25 Giugno 2023. \nSei in cerca di un Hotel 3 stelle superior vicino alla Fiera di Rimini per programmare il tuo soggiorno? Ecco la proposta di Hotel King di Marina Centro di Rimini vicino al mare e a pochi minuti della stazione di Rimini dove ogni giorno parte il treno diretto in fiera evitandoti così code nel traffico e il problema del parcheggio. \nViaggi con la tua squadra o in comitiva di sportivi? Contattaci per un preventivo personalizzato. \nSPECIALE Festival Italiano della Danza Sportiva (offerta valida dal 15 Giugno al 25 Giugno 2023) \nCamera e colazione a partire da € 49\,00 al giorno per persona in camera doppia/matrimoniale\nMezza Pensione a partire da € 64\,00 al giorno per persona in camera doppia/matrimoniale \nSconti per i bimbi! Possibilità di prenotare camere Oro\, con Balcone lato mare \nIl tuo soggiorno all’Hotel King 3 stelle di Rimini in occasione di Ginnastica in Festa include:\n– Pernottamento in eleganti camere in stile veneziano\n– Ottima prima colazione con tante specialità dolci e salate\, torte fatte in casa da dal nostro chef\, yogurt\, frutta fresca\, affettati\, formaggi\, succhi di frutta\, caffetteria\n– Cena con menù a scelta  sempre accompagnati da contorni  e bevande ai pasti\n– Connessione Internet Wi-Fi free \nPer maggiori informazioni contattaci compilando il form:
URL:https://hotelkingrimini.com/offerta/il-festival-italiano-della-danza-sportiva-si-balla/
CATEGORIES:OFFERE HOTEL EVENTI SPORTIVI A RIMINI,OFFERTE HOTEL FIERA DI RIMINI,OFFERTE VACANZE
ATTACH;FMTTYPE=image/jpeg:https://hotelkingrimini.com/new25/wp-content/uploads/2023/05/PHOTO-2022-10-19-17-10-13.jpg
END:VEVENT
END:VCALENDAR