BEGIN:VCALENDAR
VERSION:2.0
PRODID:-//Hotel King Rimini - ECPv6.15.20//NONSGML v1.0//EN
CALSCALE:GREGORIAN
METHOD:PUBLISH
X-WR-CALNAME:Hotel King Rimini
X-ORIGINAL-URL:https://hotelkingrimini.com
X-WR-CALDESC:Eventi per Hotel King Rimini
REFRESH-INTERVAL;VALUE=DURATION:PT1H
X-Robots-Tag:noindex
X-PUBLISHED-TTL:PT1H
BEGIN:VTIMEZONE
TZID:Europe/Rome
BEGIN:DAYLIGHT
TZOFFSETFROM:+0100
TZOFFSETTO:+0200
TZNAME:CEST
DTSTART:20250330T010000
END:DAYLIGHT
BEGIN:STANDARD
TZOFFSETFROM:+0200
TZOFFSETTO:+0100
TZNAME:CET
DTSTART:20251026T010000
END:STANDARD
BEGIN:DAYLIGHT
TZOFFSETFROM:+0100
TZOFFSETTO:+0200
TZNAME:CEST
DTSTART:20260329T010000
END:DAYLIGHT
BEGIN:STANDARD
TZOFFSETFROM:+0200
TZOFFSETTO:+0100
TZNAME:CET
DTSTART:20261025T010000
END:STANDARD
BEGIN:DAYLIGHT
TZOFFSETFROM:+0100
TZOFFSETTO:+0200
TZNAME:CEST
DTSTART:20270328T010000
END:DAYLIGHT
BEGIN:STANDARD
TZOFFSETFROM:+0200
TZOFFSETTO:+0100
TZNAME:CET
DTSTART:20271031T010000
END:STANDARD
BEGIN:DAYLIGHT
TZOFFSETFROM:+0100
TZOFFSETTO:+0200
TZNAME:CEST
DTSTART:20280326T010000
END:DAYLIGHT
BEGIN:STANDARD
TZOFFSETFROM:+0200
TZOFFSETTO:+0100
TZNAME:CET
DTSTART:20281029T010000
END:STANDARD
BEGIN:DAYLIGHT
TZOFFSETFROM:+0100
TZOFFSETTO:+0200
TZNAME:CEST
DTSTART:20290325T010000
END:DAYLIGHT
BEGIN:STANDARD
TZOFFSETFROM:+0200
TZOFFSETTO:+0100
TZNAME:CET
DTSTART:20291028T010000
END:STANDARD
END:VTIMEZONE
BEGIN:VEVENT
DTSTART;TZID=Europe/Rome:20260101T000000
DTEND;TZID=Europe/Rome:20281231T235900
DTSTAMP:20260420T075432
CREATED:20221011T155600Z
LAST-MODIFIED:20260202T110345Z
UID:2083-1767225600-1861919940@hotelkingrimini.com
SUMMARY:OFFERTA SPECIALE PER ALLESTITORI DI FIERE ED EVENTI
DESCRIPTION:Se lavori come allestitore\, montatore o tecnico fieristico e partecipi alle fiere di Rimini\, all’Hotel King trovi la soluzione ideale per riposare al meglio dopo intense giornate di lavoro.\nAbbiamo pensato a un’offerta dedicata a chi opera dietro le quinte degli eventi fieristici\, con tariffe agevolate\, comfort essenziali e massima flessibilità. \nCosa include l’offerta:\n\nPrezzi convenzionati riservati ad allestitori e montatori\nCamere confortevoli e silenziose\, ideali per il riposo\nColazione abbondante per iniziare al meglio la giornata con orari dedicati\nCheck-in flessibile (su richiesta\, in base agli orari di lavoro)\nConnessione Wi-Fi gratuita\nPosizione strategica: per raggiungere comodamente il polo fieristico di Rimini\, il Palacongressi e l’uscita dell’autostrada Rimini Sud\n\nPerché scegliere Hotel King:\n\nAmbiente familiare e accogliente\nStaff disponibile e abituato a ospitare professionisti del settore fieristico\nOttimo rapporto qualità/prezzo anche per soggiorni di più notti\nPossibilità di preventivi personalizzati per gruppi e team di lavoro\n\n📌 L’offerta è valida durante tutte le principali fiere di Rimini\, previa disponibilità. \n👉 Contattaci direttamente per ricevere un preventivo su misura indicando le date della fiera e il numero di persone.
URL:https://hotelkingrimini.com/offerta/offerta-speciale-per-allestitori-di-fiere-ed-eventi-2022/
CATEGORIES:OFFERTE HOTEL FIERA DI RIMINI
ATTACH;FMTTYPE=image/jpeg:https://hotelkingrimini.com/new25/wp-content/uploads/2022/10/offerta-allestitori-fiere-stand.jpg
END:VEVENT
BEGIN:VEVENT
DTSTART;TZID=Europe/Rome:20260601T080000
DTEND;TZID=Europe/Rome:20260831T170000
DTSTAMP:20260420T075432
CREATED:20240130T101636Z
LAST-MODIFIED:20260202T102415Z
UID:2837-1780300800-1788195600@hotelkingrimini.com
SUMMARY:Offerta Esclusiva Estate 2026
DESCRIPTION:Pensione Completa? Sì\, ma come non l’hai mai vista! \nQuest’anno all’Hotel King di Rimini abbiamo pensato a una nuova formula di pensione completa\, che unisce libertà\, gusto e praticità\, per farti vivere l’estate senza pensieri! \nInizia la giornata con la nostra colazione: una selezione di caffetteria\, succhi\, centrifuga fresca\, torte fatte in casa\, croissant\, yogurt\, cereali\, affettati\, uova\, frutta fresca e tanto altro per un risveglio pieno di energia. \nBrunch on the beach\, il pranzo che si adatta a te: Dimentica il classico pranzo fisso! Il nostro ricco buffet brunch (fino le 14!!) ti aspetta con una selezione di specialità salate tra cui uova\, bacon\, würstel\, affettati\, focaccia\, torte salate\, pane assortito e molto altro. Inoltre\, troverai sempre due primi e un secondo\, diversi ogni giorno\, per sorprenderti sempre con nuovi sapori. Per chi vuole una coccola in più abbiamo pensato anche al dessert con dolci fatti in casa e tante altre golosità.\nAvrete inoltre la possibilità di scegliere se gustarlo nel nostro hotel oppure optare per la lunch bag (Brunch on the Beach) da asporto\, perfetta per un pranzo in spiaggia senza interruzioni di relax! \nCena senza stress: Alla sera\, niente file o indecisioni: la cena si sposta nel nostro ristorante a pochi passi dall’hotel. In struttura sceglierai comodamente dal menù dedicato\, con piatti che varieranno giornalmente\, senza dover pensare a dove andare. \nI plus della tua vacanza\nPer rendere il tuo soggiorno ancora più confortevole\, puoi prenotare:\n– Servizio spiaggia che include un ombrellone e due letti presso il nostro bagno convenzionato per goderti il mare senza pensieri.\n– Posto auto nel nostro garage sotterraneo\, a soli 100m dall’hotel\, previa prenotazione fino ad esaurimento posti.\n– Noleggio bici gratuito per esplorare Rimini in libertà! \nVivi l’estate all’Hotel King con il massimo della libertà e del gusto!\nPrenota ora la tua vacanza: posti limitati!
URL:https://hotelkingrimini.com/offerta/offerta-esclusiva-estate-2025/
CATEGORIES:OFFERTE VACANZE
ATTACH;FMTTYPE=image/png:https://hotelkingrimini.com/new25/wp-content/uploads/2024/01/estate.png
END:VEVENT
END:VCALENDAR