BEGIN:VCALENDAR
VERSION:2.0
PRODID:-//Hotel King Rimini - ECPv6.15.20//NONSGML v1.0//EN
CALSCALE:GREGORIAN
METHOD:PUBLISH
X-ORIGINAL-URL:https://hotelkingrimini.com
X-WR-CALDESC:Eventi per Hotel King Rimini
REFRESH-INTERVAL;VALUE=DURATION:PT1H
X-Robots-Tag:noindex
X-PUBLISHED-TTL:PT1H
BEGIN:VTIMEZONE
TZID:Europe/Rome
BEGIN:DAYLIGHT
TZOFFSETFROM:+0100
TZOFFSETTO:+0200
TZNAME:CEST
DTSTART:20240331T010000
END:DAYLIGHT
BEGIN:STANDARD
TZOFFSETFROM:+0200
TZOFFSETTO:+0100
TZNAME:CET
DTSTART:20241027T010000
END:STANDARD
BEGIN:DAYLIGHT
TZOFFSETFROM:+0100
TZOFFSETTO:+0200
TZNAME:CEST
DTSTART:20250330T010000
END:DAYLIGHT
BEGIN:STANDARD
TZOFFSETFROM:+0200
TZOFFSETTO:+0100
TZNAME:CET
DTSTART:20251026T010000
END:STANDARD
BEGIN:DAYLIGHT
TZOFFSETFROM:+0100
TZOFFSETTO:+0200
TZNAME:CEST
DTSTART:20260329T010000
END:DAYLIGHT
BEGIN:STANDARD
TZOFFSETFROM:+0200
TZOFFSETTO:+0100
TZNAME:CET
DTSTART:20261025T010000
END:STANDARD
BEGIN:DAYLIGHT
TZOFFSETFROM:+0100
TZOFFSETTO:+0200
TZNAME:CEST
DTSTART:20270328T010000
END:DAYLIGHT
BEGIN:STANDARD
TZOFFSETFROM:+0200
TZOFFSETTO:+0100
TZNAME:CET
DTSTART:20271031T010000
END:STANDARD
END:VTIMEZONE
BEGIN:VEVENT
DTSTART;TZID=Europe/Rome:20251228T000000
DTEND;TZID=Europe/Rome:20260105T235900
DTSTAMP:20260420T001820
CREATED:20221003T194321Z
LAST-MODIFIED:20251121T174738Z
UID:1932-1766880000-1767657540@hotelkingrimini.com
SUMMARY:CAPODANNO 2026
DESCRIPTION:Festeggia l’arrivo del nuovo anno sulla Riviera Romagnola! \nPer il capodanno a Rimini\, come ogni anno\, troverete numerosi eventi sparsi nelle piazze principali che ci accompagneranno fino allo scoccare della mezzanotte: 10 feste in 10 spazi fra centro e mare illuminati dalla suggestiva magia dell’Incendio al Castello alla Rocca malatestiana\, con 2 repliche dopo la mezzanotte. Alla dance\, ai dj più famosi\, ai balli latinoamericani\, alla tradizione dello swing\, si affianca per la prima volta a San Silvestro la Liscio street parade New Year edition!\nSe stai cercando un capodanno all’insegna del relax\, del buon cibo e della magia degli eventi\, l’Hotel King è la scelta ideale\, situato nella zona più vivace di Marina Centro\, vi propone un soggiorno nel cuore della Riviera in Festa a pochi passi dal centro storico di Rimini e dai suoi eventi. \nEcco l’offerta “SPECIALE CAPODANNO 2026 (offerta valida dal 28/12/2025 al 05/01/2026)” a Rimini in hotel 3 stelle Superior con trattamento di camera e colazione. \nL’offerta in CAMERA e COLAZIONE di CAPODANNO 2026 include:\n– Pernottamento in eleganti camere in stile con TV\, telefono\, cassaforte\, frigobar\, servizi privati con box doccia e phon\n– Ricca prima colazione con tante specialità dolci e salate\, torte fatte in casa dal nostro chef\, yogurt\, frutta fresca\, affettati\, formaggi\, succhi di frutta\, caffetteria\n– Free Wi-Fi su tutta la struttura\n– Aperitivo offerto per tutti gli ospiti il 31/12 per augurarci un felice anno nuovo \nCosa aspetti? Il tuo scintillante Capodanno 2026 sulla riviera del divertimento ti aspetta!
URL:https://hotelkingrimini.com/offerta/capodanno-2023-vancanza-e-cenone-a-rimini/
CATEGORIES:OFFERTE VACANZE
ATTACH;FMTTYPE=image/png:https://hotelkingrimini.com/new25/wp-content/uploads/2022/10/2026.png
END:VEVENT
END:VCALENDAR