BEGIN:VCALENDAR
VERSION:2.0
PRODID:-//Hotel King Rimini - ECPv6.15.20//NONSGML v1.0//EN
CALSCALE:GREGORIAN
METHOD:PUBLISH
X-WR-CALNAME:Hotel King Rimini
X-ORIGINAL-URL:https://hotelkingrimini.com
X-WR-CALDESC:Eventi per Hotel King Rimini
REFRESH-INTERVAL;VALUE=DURATION:PT1H
X-Robots-Tag:noindex
X-PUBLISHED-TTL:PT1H
BEGIN:VTIMEZONE
TZID:Europe/Rome
BEGIN:DAYLIGHT
TZOFFSETFROM:+0100
TZOFFSETTO:+0200
TZNAME:CEST
DTSTART:20240331T010000
END:DAYLIGHT
BEGIN:STANDARD
TZOFFSETFROM:+0200
TZOFFSETTO:+0100
TZNAME:CET
DTSTART:20241027T010000
END:STANDARD
BEGIN:DAYLIGHT
TZOFFSETFROM:+0100
TZOFFSETTO:+0200
TZNAME:CEST
DTSTART:20250330T010000
END:DAYLIGHT
BEGIN:STANDARD
TZOFFSETFROM:+0200
TZOFFSETTO:+0100
TZNAME:CET
DTSTART:20251026T010000
END:STANDARD
BEGIN:DAYLIGHT
TZOFFSETFROM:+0100
TZOFFSETTO:+0200
TZNAME:CEST
DTSTART:20260329T010000
END:DAYLIGHT
BEGIN:STANDARD
TZOFFSETFROM:+0200
TZOFFSETTO:+0100
TZNAME:CET
DTSTART:20261025T010000
END:STANDARD
END:VTIMEZONE
BEGIN:VEVENT
DTSTART;TZID=Europe/Rome:20251204T000000
DTEND;TZID=Europe/Rome:20251207T235900
DTSTAMP:20260421T150124
CREATED:20221103T162244Z
LAST-MODIFIED:20251121T175619Z
UID:2157-1764806400-1765151940@hotelkingrimini.com
SUMMARY:SPECIALE PONTE DELL'IMMACOLATA 2025
DESCRIPTION:Ecco un’idea per un week-end invernale da trascorrere in relax con famiglia ed amici alla scoperta della Romagna\, una terra ricca di tradizione e storia. Sarà anche un’ottima occasione per passeggiare tra i mercatini delle feste e sagre proposte dalle località dell’entroterra. In occasione del Ponte dell’Immacolata organizza una breve pausa assieme ai tuoi cari in formula Bed&Breakfast ! Scopri l’offerta con prezzi vantaggiosi e servizi di qualità e se viaggi con tutta la famiglia approfitta di convenienti sconti bimbo. \nSPECIALE PONTE DELL’IMMACOLATA 2025 (offerta valida dal 04 al 07 Dicembre 2025)\nI migliori servizi per te:\n– Sistemazione in camere arredate in stile veneziano con climatizzatore\, TV\, Alexa\, cassaforte\, frigobar\, servizi privati con box doccia e phon\n– Ricca prima colazione con tante specialità dolci e salate\, torte fatte in casa dal nostro chef\, yogurt\, frutta fresca\, affettati\, succhi di frutta\, caffetteria\n– Collegamento Wi-Fi gratuito veloce \n*Possibilità di Mezza Pensione per gruppi su richiesta\n*Possibilità di prenotare camere Oro\, con Balcone lato mare \nVuoi regalarti un anticipo di magia natalizia? Inviaci una richiesta e ti prepareremo un’offerta dedicata.
URL:https://hotelkingrimini.com/offerta/speciale-ponte-dellimmacolata-2022/
CATEGORIES:OFFERTE VACANZE
ATTACH;FMTTYPE=image/jpeg:https://hotelkingrimini.com/new25/wp-content/uploads/2022/11/rimini-atmosfera-natale-immacolata-ponte-hotel.jpg
END:VEVENT
END:VCALENDAR