BEGIN:VCALENDAR
VERSION:2.0
PRODID:-//Hotel King Rimini - ECPv6.15.20//NONSGML v1.0//EN
CALSCALE:GREGORIAN
METHOD:PUBLISH
X-ORIGINAL-URL:https://hotelkingrimini.com
X-WR-CALDESC:Eventi per Hotel King Rimini
REFRESH-INTERVAL;VALUE=DURATION:PT1H
X-Robots-Tag:noindex
X-PUBLISHED-TTL:PT1H
BEGIN:VTIMEZONE
TZID:Europe/Rome
BEGIN:DAYLIGHT
TZOFFSETFROM:+0100
TZOFFSETTO:+0200
TZNAME:CEST
DTSTART:20240331T010000
END:DAYLIGHT
BEGIN:STANDARD
TZOFFSETFROM:+0200
TZOFFSETTO:+0100
TZNAME:CET
DTSTART:20241027T010000
END:STANDARD
BEGIN:DAYLIGHT
TZOFFSETFROM:+0100
TZOFFSETTO:+0200
TZNAME:CEST
DTSTART:20250330T010000
END:DAYLIGHT
BEGIN:STANDARD
TZOFFSETFROM:+0200
TZOFFSETTO:+0100
TZNAME:CET
DTSTART:20251026T010000
END:STANDARD
BEGIN:DAYLIGHT
TZOFFSETFROM:+0100
TZOFFSETTO:+0200
TZNAME:CEST
DTSTART:20260329T010000
END:DAYLIGHT
BEGIN:STANDARD
TZOFFSETFROM:+0200
TZOFFSETTO:+0100
TZNAME:CET
DTSTART:20261025T010000
END:STANDARD
END:VTIMEZONE
BEGIN:VEVENT
DTSTART;TZID=Europe/Rome:20250901T080000
DTEND;TZID=Europe/Rome:20250930T170000
DTSTAMP:20260422T053904
CREATED:20230720T160435Z
LAST-MODIFIED:20250813T133513Z
UID:2595-1756713600-1759251600@hotelkingrimini.com
SUMMARY:Offerta mese di Settembre a Rimini
DESCRIPTION:Sei alla ricerca di una fuga rilassante\, lontana dal caos e dalla calura estiva? L’Hotel King Rimini ha l’offerta perfetta per te! Approfitta del mese di settembre e la bassa stagione\, per vivere il mare nella sua forma più tranquilla e rilassante. \nPerché Settembre è il momento ideale per visitarci? Semplice!\nSettembre è il periodo in cui la confusione dei mesi estivi è alle spalle\, e i grossi flussi di turisti lasciano spazio ad un’atmosfera più intima e pacifica grazie alla quale avrai la possibilità di goderti la nostra struttura e le bellezze di Rimini con maggiore tranquillità.\nIl caldo torrido dell’estate lascia gradualmente spazio a temperature più piacevoli e dolci brezze marine: potrai trascorrere giornate piacevoli al mare senza l’eccessiva afa tipica dell’alta stagione.\nSettembre rappresenta l’opportunità ideale per dedicarti del tempo prima di affrontare il tran tran dell’autunno: rilassati\, goditi la spiaggia e rigenera mente e corpo prima del ritorno alla quotidianità. \nPrenota ora il tuo soggiorno presso l’Hotel King Rimini e regalati un’esperienza unica di relax\, mare e tranquillità. Le ultime giornate d’estate ti attendono per coccolarti! \nTi aspettiamo per farti vivere un indimenticabile Settembre Relax & Mare all’Hotel King Rimini!
URL:https://hotelkingrimini.com/offerta/offerta-mese-di-settembre-a-rimini/
CATEGORIES:OFFERTE VACANZE
ATTACH;FMTTYPE=image/jpeg:https://hotelkingrimini.com/new25/wp-content/uploads/2023/07/darsena-2.jpg
END:VEVENT
END:VCALENDAR