BEGIN:VCALENDAR
VERSION:2.0
PRODID:-//Hotel King Rimini - ECPv6.15.20//NONSGML v1.0//EN
CALSCALE:GREGORIAN
METHOD:PUBLISH
X-ORIGINAL-URL:https://hotelkingrimini.com
X-WR-CALDESC:Eventi per Hotel King Rimini
REFRESH-INTERVAL;VALUE=DURATION:PT1H
X-Robots-Tag:noindex
X-PUBLISHED-TTL:PT1H
BEGIN:VTIMEZONE
TZID:Europe/Rome
BEGIN:DAYLIGHT
TZOFFSETFROM:+0100
TZOFFSETTO:+0200
TZNAME:CEST
DTSTART:20240331T010000
END:DAYLIGHT
BEGIN:STANDARD
TZOFFSETFROM:+0200
TZOFFSETTO:+0100
TZNAME:CET
DTSTART:20241027T010000
END:STANDARD
BEGIN:DAYLIGHT
TZOFFSETFROM:+0100
TZOFFSETTO:+0200
TZNAME:CEST
DTSTART:20250330T010000
END:DAYLIGHT
BEGIN:STANDARD
TZOFFSETFROM:+0200
TZOFFSETTO:+0100
TZNAME:CET
DTSTART:20251026T010000
END:STANDARD
BEGIN:DAYLIGHT
TZOFFSETFROM:+0100
TZOFFSETTO:+0200
TZNAME:CEST
DTSTART:20260329T010000
END:DAYLIGHT
BEGIN:STANDARD
TZOFFSETFROM:+0200
TZOFFSETTO:+0100
TZNAME:CET
DTSTART:20261025T010000
END:STANDARD
END:VTIMEZONE
BEGIN:VEVENT
DTSTART;TZID=Europe/Rome:20250604T080000
DTEND;TZID=Europe/Rome:20250921T170000
DTSTAMP:20260425T021443
CREATED:20250604T145133Z
LAST-MODIFIED:20250604T145133Z
UID:264726-1749024000-1758474000@hotelkingrimini.com
SUMMARY:Vacanze Smart a Rimini: 5 Giorni a un prezzo davvero speciale!
DESCRIPTION:🎉 Nel weekend o in settimana? Facile scegliere quando il risparmio è così smart! 🎉 \nLo sappiamo\, decidere tra un weekend veloce o una settimana di puro relax non è mai semplice… Ma se ti dicessimo che con il budget di 2 notti puoi permetterti 5 giorni di vacanza vera? Non è magia\, è solo Hotel King di Rimini che ti vizia con offerte furbissime! \nGuarda un po’ qui\, ecco alcuni esempi! 👇 \n🌞 Dal 6 all’8 giugno (venerdì-domenica): 2 notti con colazione a 203€\n🧳 Dall’8 al 13 giugno (domenica-venerdì): 5 notti a SOLO 270€ \n5 notti a 270€? Non è un errore di stampa. È solo un’occasione da non lasciarsi scappare! \n💛 Dal 18 al 20 luglio (weekend): 281€\n🏖 Dal 20 al 25 luglio (settimana corta): 375€ per 5 notti! \nUn paio di giorni in alta stagione o una vacanza intera con l’infradito ai piedi? \n🌅 Dall’8 al 10 agosto: 2 notti a 303€\n🌊 Dal 24 al 29 agosto: 5 notti a 381€! \nE chi te lo fa fare di litigare col traffico del weekend\, le spiagge affollate e i prezzi da capogiro? Vieni a rilassarti con noi quando Rimini è tutta tua\, dalla domenica al venerdì! \n📣 La verità? Il weekend è sopravvalutato.\n⏳ Con le nostre offerte smart\, eviti la ressa\, ti godi il mare in prima fila e risparmi senza rinunciare a nulla.\n🎈 Perché accontentarsi di 48 ore quando con un piccolo extra puoi fare il pieno di sole e relax per 5 giorni? \nPrepara la valigia\, prenota subito e regalati una vacanza come si deve\, senza far piangere il portafogli!
URL:https://hotelkingrimini.com/offerta/vacanze-smart-a-rimini-5-giorni-a-un-prezzo-davvero-speciale/
ATTACH;FMTTYPE=image/png:https://hotelkingrimini.com/new25/wp-content/uploads/2025/06/VacanzeSmartHotelKing.png
END:VEVENT
BEGIN:VEVENT
DTSTART;VALUE=DATE:20250625
DTEND;VALUE=DATE:20250704
DTSTAMP:20260425T021443
CREATED:20221103T162158Z
LAST-MODIFIED:20221103T162158Z
UID:2161-1750809600-1751587199@hotelkingrimini.com
SUMMARY:SPECIALE GINNASTICA IN FESTA - SUMMER EDITION 2025
DESCRIPTION:Dal 25 Giugno al 03 Luglio 2025 (date da riconfermare) torna Ginnastica in Festa Summer Edition presso la Fiera di Rimini\, un grande evento sportivo che ogni anno richiama migliaia di presenze\, confermandosi come l’appuntamento sportivo con il più alto numero di atleti partecipanti. Sei in cerca di un Hotel 3 stelle superior vicino alla Fiera di Rimini per programmare il tuo soggiorno in occasione di Ginnastica in Festa? Ecco la proposta di Hotel King di Marina Centro di Rimini vicino al mare e a pochi minuti della stazione di Rimini dove ogni giorno parte il treno diretto in fiera evitandoti così code nel traffico e il problema del parcheggio. \nViaggi con la tua squadra o in comitiva di sportivi? Contattaci per un preventivo personalizzato. \nSPECIALE GINNASTICA IN FESTA – SUMMER EDITION 2025\n\nSconti per i bimbi! Possibilità di prenotare camere Oro\, con Balcone lato mare \nIl tuo soggiorno all’Hotel King 3 stelle di Rimini in occasione di Ginnastica in Festa include:\n– Sistemazione in camere arredate in stile veneziano con climatizzatore\, TV\, telefono\, cassaforte\, frigobar\, servizi privati con box doccia e phon\n– Ricca prima colazione con tante specialità dolci e salate\, torte fatte in casa dal nostro chef\, yogurt\, frutta fresca\, affettati\, formaggi\, succhi di frutta\, caffetteria.\n– Connessione Wi-Fi veloce su tutta la struttura \nPer maggiori informazioni contattaci compilando il form:
URL:https://hotelkingrimini.com/offerta/speciale-ginnastica-in-festa-summer-edition-2025/
CATEGORIES:OFFERE HOTEL EVENTI SPORTIVI A RIMINI,OFFERTE HOTEL FIERA DI RIMINI
ATTACH;FMTTYPE=image/jpeg:https://hotelkingrimini.com/new25/wp-content/uploads/2022/11/ginnastica-in-festa-rimini-winter-edition-hotel.jpg
END:VEVENT
END:VCALENDAR