BEGIN:VCALENDAR
VERSION:2.0
PRODID:-//Hotel King Rimini - ECPv6.15.20//NONSGML v1.0//EN
CALSCALE:GREGORIAN
METHOD:PUBLISH
X-WR-CALNAME:Hotel King Rimini
X-ORIGINAL-URL:https://hotelkingrimini.com
X-WR-CALDESC:Eventi per Hotel King Rimini
REFRESH-INTERVAL;VALUE=DURATION:PT1H
X-Robots-Tag:noindex
X-PUBLISHED-TTL:PT1H
BEGIN:VTIMEZONE
TZID:Europe/Rome
BEGIN:DAYLIGHT
TZOFFSETFROM:+0100
TZOFFSETTO:+0200
TZNAME:CEST
DTSTART:20240331T010000
END:DAYLIGHT
BEGIN:STANDARD
TZOFFSETFROM:+0200
TZOFFSETTO:+0100
TZNAME:CET
DTSTART:20241027T010000
END:STANDARD
BEGIN:DAYLIGHT
TZOFFSETFROM:+0100
TZOFFSETTO:+0200
TZNAME:CEST
DTSTART:20250330T010000
END:DAYLIGHT
BEGIN:STANDARD
TZOFFSETFROM:+0200
TZOFFSETTO:+0100
TZNAME:CET
DTSTART:20251026T010000
END:STANDARD
BEGIN:DAYLIGHT
TZOFFSETFROM:+0100
TZOFFSETTO:+0200
TZNAME:CEST
DTSTART:20260329T010000
END:DAYLIGHT
BEGIN:STANDARD
TZOFFSETFROM:+0200
TZOFFSETTO:+0100
TZNAME:CET
DTSTART:20261025T010000
END:STANDARD
END:VTIMEZONE
BEGIN:VEVENT
DTSTART;VALUE=DATE:20250418
DTEND;VALUE=DATE:20250505
DTSTAMP:20260425T142027
CREATED:20250414T085022Z
LAST-MODIFIED:20250414T085022Z
UID:264682-1744934400-1746403199@hotelkingrimini.com
SUMMARY:Pasqua e ponti a Rimini 2025
DESCRIPTION:Pasqua\, 25 aprile e 1 maggio: tre ponti\, un’unica grande occasione per regalarti una vacanza come si deve!\nLa primavera è finalmente sbocciata e Rimini torna a vivere tra sole\, eventi\, profumo di mare e tanto divertimento. È il momento ideale per concedersi qualche giorno di relax\, magari una passeggiata sulla spiaggia\, un aperitivo al tramonto o una serata nel cuore della città tra musica e mercatini. \nAll’Hotel King ti aspettiamo con la nostra accoglienza calorosa\, camere confortevoli e tutti i servizi pensati per farti sentire davvero in vacanza.\nSiamo a due passi dal mare\, quindi dimentica l’auto e goditi la spiaggia in tutta comodità! E al risveglio? Ti aspetta la nostra colazione dolce\, salata e biologica\, ricca di prodotti freschi\, torte fatte in casa e tutto quello che serve per iniziare al meglio la giornata (compreso l’angolo vegan). \nChe tu viaggi in coppia\, in famiglia o con gli amici\, abbiamo l’offerta giusta per te! \nE non finisce qui: se prenoti un soggiorno di più di 3 notti\, riceverai uno sconto speciale per goderti ancora di più la tua pausa di primavera. \nCosa aspetti? Il sole chiama\, Rimini ti aspetta\, e noi dell’Hotel King siamo già pronti ad accoglierti con il sorriso!
URL:https://hotelkingrimini.com/offerta/pasqua-e-ponti-a-rimini-2025/
CATEGORIES:OFFERTE HOTEL EVENTI RIVIERA ROMAGNOLA,OFFERTE VACANZE
ATTACH;FMTTYPE=image/avif:https://hotelkingrimini.com/new25/wp-content/uploads/2025/04/rn-1.avif
END:VEVENT
END:VCALENDAR